BEGIN:VCALENDAR
VERSION:2.0
PRODID:-//American School of Storytelling - ECPv6.15.20//NONSGML v1.0//EN
CALSCALE:GREGORIAN
METHOD:PUBLISH
X-ORIGINAL-URL:https://americanschoolofstorytelling.com
X-WR-CALDESC:Events for American School of Storytelling
REFRESH-INTERVAL;VALUE=DURATION:PT1H
X-Robots-Tag:noindex
X-PUBLISHED-TTL:PT1H
BEGIN:VTIMEZONE
TZID:America/Chicago
BEGIN:DAYLIGHT
TZOFFSETFROM:-0600
TZOFFSETTO:-0500
TZNAME:CDT
DTSTART:20250309T080000
END:DAYLIGHT
BEGIN:STANDARD
TZOFFSETFROM:-0500
TZOFFSETTO:-0600
TZNAME:CST
DTSTART:20251102T070000
END:STANDARD
BEGIN:DAYLIGHT
TZOFFSETFROM:-0600
TZOFFSETTO:-0500
TZNAME:CDT
DTSTART:20260308T080000
END:DAYLIGHT
BEGIN:STANDARD
TZOFFSETFROM:-0500
TZOFFSETTO:-0600
TZNAME:CST
DTSTART:20261101T070000
END:STANDARD
BEGIN:DAYLIGHT
TZOFFSETFROM:-0600
TZOFFSETTO:-0500
TZNAME:CDT
DTSTART:20270314T080000
END:DAYLIGHT
BEGIN:STANDARD
TZOFFSETFROM:-0500
TZOFFSETTO:-0600
TZNAME:CST
DTSTART:20271107T070000
END:STANDARD
END:VTIMEZONE
BEGIN:VEVENT
DTSTART;TZID=America/Chicago:20260420T190000
DTEND;TZID=America/Chicago:20260420T210000
DTSTAMP:20260420T103811
CREATED:20260129T014607Z
LAST-MODIFIED:20260129T014607Z
UID:10000615-1776711600-1776718800@americanschoolofstorytelling.com
SUMMARY:Storytelling- Open Mic Mondays April 2026
DESCRIPTION:This is an ongoing monthly series of storytelling open mics that will take place on the 3rd Monday of the month. \nHere’s how it works:\nUp to 10 Tellers. 10 minutes each. Any style- traditional\, personal\, braided. etc. Sign-up will be first come\, first serve. \nDoors at 6:30\, show at 7pm. \nThis event presented in partnership of Story Arts of Minnesota and the American School of Storytelling.
URL:https://americanschoolofstorytelling.com/event/storytelling-apr-2026/
LOCATION:AMSS\, 1762 Hennepin Ave South\, Minneapolis\, MN\, 55403\, United States
CATEGORIES:Open Mic
ATTACH;FMTTYPE=image/jpeg:https://americanschoolofstorytelling.com/wp-content/uploads/2024/10/Story-Arts-Open-Mic-e1728601933549.jpg
ORGANIZER;CN="American School of Storytelling":MAILTO:americanschoolofstorytelling@gmail.com
END:VEVENT
BEGIN:VEVENT
DTSTART;TZID=America/Chicago:20260423T190000
DTEND;TZID=America/Chicago:20260423T210000
DTSTAMP:20260420T103811
CREATED:20260322T235117Z
LAST-MODIFIED:20260322T235408Z
UID:10000633-1776970800-1776978000@americanschoolofstorytelling.com
SUMMARY:Stories for the Planet
DESCRIPTION:An evening of the stories that bring the Earth to life from an amazing slate of Storytellers. Brought together by the American School of Storytelling founder Loren Niemi\, here’s an opportunity to dig deeper into the underlying narratives of the planet. Also\, music\, some wonderful orgs sharing their opps in the lobby\, and a chance to know more about how you can bring your stories to life. \nLoren Niemi\, AMSSCraig AlciatiJothsna HarrisLaura PackerTracy ConnorAnd music \nJothsna Harris is our Speaker: the founder of Change Narrative & a leader in the climate communication world. \nTickets- pay what you will at: https://app.showslinger.com/v4/Stories-for-the-Planet \nEARTH WEEK FEST AT THE PHOENIX \n 
URL:https://americanschoolofstorytelling.com/event/stories-for-the-planet/
LOCATION:Phoenix Theater\, 2605 Hennepin Avenue\, Minneapolis\, MN\, 55408\, United States
CATEGORIES:Performance
ATTACH;FMTTYPE=image/jpeg:https://americanschoolofstorytelling.com/wp-content/uploads/2026/03/Stories-for-the-planet-e1774223379894.jpg
END:VEVENT
BEGIN:VEVENT
DTSTART;TZID=America/Chicago:20260424T190000
DTEND;TZID=America/Chicago:20260424T203000
DTSTAMP:20260420T103811
CREATED:20260220T015132Z
LAST-MODIFIED:20260320T232740Z
UID:10000629-1777057200-1777062600@americanschoolofstorytelling.com
SUMMARY:S.P. Jayaraj "Hindu Myths About Nature"
DESCRIPTION:S.P. Jayaraj presents a collection of stories from Hindu Mythology revolving around our love of the earth. From stories about Vishnu’s Varaha avatar where he saves the earth from greedy demons\, to more obscure stories revolving around forest deities\, to tales found in the epics the Ramayana and Mahabharata. These stories explore our connection to nature to build up our reverence and desire to more actively protect the earth. \nTeller Bio: Satish Pothery Jayaraj a storyteller\, an author\, a podcaster\, and a creative life coach. He is the co-host of the hit podcast ‘Not Your Mother’s Mahabharata\,’ where he tells the story of the Indian epic casually and comedically. He is the author of two fantasy books The Secret of the Zipacna Dragons\, and Legacy of the Crow. He is proud to share this story with you to aid a deepening connection with the earth. \n  \n\n\n\n\nTo register: \n\nAdd the number of tickets you want by clicking the ‘+’ button\nClick the ‘Get Tickets’ button\nNote- After purchase\, tickets & receipt may arrive in your ‘Junk Mail’ folder 
URL:https://americanschoolofstorytelling.com/event/satish-jayaraj-hindu-myths/
LOCATION:AMSS\, 1762 Hennepin Ave South\, Minneapolis\, MN\, 55403\, United States
CATEGORIES:Performance
ATTACH;FMTTYPE=image/jpeg:https://americanschoolofstorytelling.com/wp-content/uploads/2026/03/Hindu-Myths-About-Nature-e1774049209288.jpg
ORGANIZER;CN="American School of Storytelling":MAILTO:americanschoolofstorytelling@gmail.com
END:VEVENT
BEGIN:VEVENT
DTSTART;TZID=America/Chicago:20260427T190000
DTEND;TZID=America/Chicago:20260427T203000
DTSTAMP:20260420T103811
CREATED:20260129T014817Z
LAST-MODIFIED:20260129T014817Z
UID:10000616-1777316400-1777321800@americanschoolofstorytelling.com
SUMMARY:Poetry- Open Mic Mondays April 2026
DESCRIPTION:This is an ongoing monthly series of poetry & spoken word open mics that will take place on the 4th Monday of the month. \nHere’s how it works:\nUp to 15 poets. 5 minutes or 3 poems each. Any form. Sign-up will be first come\, first serve. \nDoors at 6:30\, show at 7pm.
URL:https://americanschoolofstorytelling.com/event/poetry-apr-2026/
LOCATION:AMSS\, 1762 Hennepin Ave South\, Minneapolis\, MN\, 55403\, United States
CATEGORIES:Open Mic
ATTACH;FMTTYPE=image/jpeg:https://americanschoolofstorytelling.com/wp-content/uploads/2023/11/Poetry-Open-Mic-e1701043164131.jpg
ORGANIZER;CN="American School of Storytelling":MAILTO:americanschoolofstorytelling@gmail.com
END:VEVENT
BEGIN:VEVENT
DTSTART;TZID=America/Chicago:20260428T190000
DTEND;TZID=America/Chicago:20260428T210000
DTSTAMP:20260420T103811
CREATED:20260323T001333Z
LAST-MODIFIED:20260407T223423Z
UID:10000634-1777402800-1777410000@americanschoolofstorytelling.com
SUMMARY:Beginning Storytelling
DESCRIPTION:Have you wanted to tell stories? Or better stories? No experience? Some? Heard a Moth program and thought\, you could or should try that? This four session hands-on class will give you the basic tools to identify\, craft and confidently tell a traditional or personal story. It explores how to identify story seeds from your own lived experience\, useful plot forms that structure narratives and can transform how you write or tell stories and critical choices of point of view – First person\, Second\, and Third Person –  in Past or Present tense that frame who is telling the tale and the fundamentals of saying it out loud. \nIn-person\, 4 sessions\, 7:00-9:00 pm\nTuesdays\, April 28\, May 5\, May 12\, May 26 \nTaught by Loren Niemi \n  \n\n\nTo register: \n\nAdd the number of tickets you want by clicking the ‘+’ button\nClick the ‘Get Tickets’ button\nNote- After purchase\, tickets & receipt may arrive in your ‘Junk Mail’ folder 
URL:https://americanschoolofstorytelling.com/event/intro-su26/
LOCATION:AMSS\, 1762 Hennepin Ave South\, Minneapolis\, MN\, 55403\, United States
CATEGORIES:Classes
ATTACH;FMTTYPE=image/jpeg:https://americanschoolofstorytelling.com/wp-content/uploads/2026/04/Beginning-Storytelling-e1775090796918.jpg
ORGANIZER;CN="American School of Storytelling":MAILTO:americanschoolofstorytelling@gmail.com
END:VEVENT
BEGIN:VEVENT
DTSTART;TZID=America/Chicago:20260430T190000
DTEND;TZID=America/Chicago:20260430T203000
DTSTAMP:20260420T103811
CREATED:20260220T015429Z
LAST-MODIFIED:20260323T000540Z
UID:10000630-1777575600-1777581000@americanschoolofstorytelling.com
SUMMARY:Greg Watson "The Shape of Your Absence"
DESCRIPTION:Greg Watson’s The Shape of Your Absence is a poignant exploration of love\, loss\, and the echoes that linger after departure. With quiet precision and emotional clarity\, Watson transforms absence into a living presence—something that shapes\, rather than empties\, the heart. These poems remind us that what is gone still breathes within what remains. \n“The Shape of Your Absence\, is a series of grief and remembrance poems for the woman I lived with for over a decade in my youth. She taught me a lot\, and I want to honor her\,” says Greg. \nIn this luminous and haunting collection\, Greg Watson measures the invisible contours of longing. Across delicate\, finely-wrought poems\, absence emerges not as emptiness but as a presence—an echo\, a wound\, a memory that shapes everything around it. \nArtist bios: \n \nGreg Watson is an award-winning author of twelve collections of poetry\, most recently ‘The Shape of Your Absence’ released in Spring 2026. He is also co-editor with Richard Broderick of The Road by Heart: Poems of Fatherhood\, published by Nodin Press. \nGreg is a native of Saint Paul\, MN and still resides there with his daughter. \n \nRenee Vaughan is a Minnesota-based artist who brings Sweden’s folk traditions to life through music\, dance\, painting\, and storytelling \n \nChristy Merry is a native Minnesotan\, an award-winning poet\, and a singer-songwriter. As an adult\, she lived\, wrote and performed in Chicago\, LA and NYC before returning to her home state\, where she now lives with her husband and two black cats. Chances are\, she wants to be your friend. Love and loss are frequent themes in her writing\, as they are in life.
URL:https://americanschoolofstorytelling.com/event/greg-watson/
LOCATION:AMSS\, 1762 Hennepin Ave South\, Minneapolis\, MN\, 55403\, United States
CATEGORIES:Books
ATTACH;FMTTYPE=image/png:https://americanschoolofstorytelling.com/wp-content/uploads/2026/03/The-Shape-of-Your-Absence--e1774123767161.png
ORGANIZER;CN="American School of Storytelling":MAILTO:americanschoolofstorytelling@gmail.com
END:VEVENT
BEGIN:VEVENT
DTSTART;TZID=America/Chicago:20260504T190000
DTEND;TZID=America/Chicago:20260504T210000
DTSTAMP:20260420T103811
CREATED:20260218T013419Z
LAST-MODIFIED:20260323T003943Z
UID:10000620-1777921200-1777928400@americanschoolofstorytelling.com
SUMMARY:Witness- Open Mic Mondays May 2026
DESCRIPTION:We are adding a “Witness Open Mic” on the first Monday of the month\, to offer our neighbors and fellow citizens a forum to share their stories.  \nWhat has happened? What have you seen or done as a witness\, observer\, or volunteer? How are you living with your fear\, anger\, anxiety? What can we learn from listening to each other? \nStories\, poems\, songs… all forms are welcome. Sign-up will be first come\, first serve. Doors at 6:30\, show at 7:00pm. \n \nMany thanks to Forecast Public Art for providing a grant to support this open mic!
URL:https://americanschoolofstorytelling.com/event/witness-may-2026/
LOCATION:AMSS\, 1762 Hennepin Ave South\, Minneapolis\, MN\, 55403\, United States
CATEGORIES:Open Mic
ATTACH;FMTTYPE=image/jpeg:https://americanschoolofstorytelling.com/wp-content/uploads/2026/01/Witness-Open-Mic-e1768790382527.jpg
ORGANIZER;CN="American School of Storytelling":MAILTO:americanschoolofstorytelling@gmail.com
END:VEVENT
BEGIN:VEVENT
DTSTART;TZID=America/Chicago:20260506T190000
DTEND;TZID=America/Chicago:20260506T210000
DTSTAMP:20260420T103811
CREATED:20260418T201600Z
LAST-MODIFIED:20260418T202040Z
UID:10000642-1778094000-1778101200@americanschoolofstorytelling.com
SUMMARY:Storytelling as Personal Mythology
DESCRIPTION:This four session online workshop explores our relationship to myth(s) both in traditional and personal stories\, looking at how myth infuses our being in the world and how it consciously (or not) shapes our storytelling. When we know how myth functions we can make conscious decisions about when and why it can add resonance to our stories. \nWednesdays\, May 6\, 13\, 20 and 27\nOnline at 7:00-9:00pm Central Time\nTaught by Loren Niemi\nZoom link will be sent first day of class \n\n\nTo register: \n\nAdd the number of tickets you want by clicking the ‘+’ button\nClick the ‘Get Tickets’ button\nNote- After purchase\, tickets & receipt may arrive in your ‘Junk Mail’ folder 
URL:https://americanschoolofstorytelling.com/event/personal-mythology-2026/
LOCATION:Online
CATEGORIES:Online Workshop
ATTACH;FMTTYPE=image/jpeg:https://americanschoolofstorytelling.com/wp-content/uploads/2026/04/Personal-Mythology-e1776543341278.jpg
ORGANIZER;CN="American School of Storytelling":MAILTO:americanschoolofstorytelling@gmail.com
END:VEVENT
BEGIN:VEVENT
DTSTART;TZID=America/Chicago:20260508T190000
DTEND;TZID=America/Chicago:20260508T203000
DTSTAMP:20260420T103811
CREATED:20260323T002042Z
LAST-MODIFIED:20260408T011323Z
UID:10000636-1778266800-1778272200@americanschoolofstorytelling.com
SUMMARY:Wayfinding the Wilds: Tracking A Myth
DESCRIPTION:The wilderness has always held attention somewhere in the overlap of unrestricted fascination\, deep terror\, and enduring mystique. As a living symbol\, it represents the unknown and the unpredictable- the very medium of Life itself. \nDrawing on the languages of poetry\, music\, myth\, and story we’ll venture headlong into the underbrush of the timeless soul\, into the landscape of mystery and memory\, into the untamable grand story playing out all around us\, within us\, and as us. We’ll imagine ourselves into a larger pattern of kinship. \nCome armed with your curiosity and defenseless against wonder. This isn’t a show about seeking answers\, but about finding questions and celebrating mystery. \n\nArtist bios: \n \nNick Theisen is a poet who works with the languages of story and poetry in service to renewing our relationship with mystery\, reconnecting with our common humanity\, and remembering our relational self. He partners with communities in exploring and articulating their wider story of belonging and accompanying them in gaining a more rooted and expansive sense of vision through tending spaces that remind us of the participatory nature of being human.\nHis work is rooted in themes of wilderness\, interbeing and belonging\, mythic imagination\, and the ecological soul. Tracing the threads between self\, other\, and landscape\, he sees his work as a living engagement with the forest in both its literal and metaphorical senses- following the ancient and wild footprints of the mythopoetic tradition\, mapmaking with the compass of curiosity\, and pilgriming on a journey of tracking myth and mystery. \n  \n  \n \nAndrew Theisen is a multi-instrumentalist living in Minneapolis. He is a part of two groups (Sunny Duchess\, Witness Trips and the Compass Rose) along with filling in for other artists. Not confined by any one genre but inspired by all\, he gives musical voice to the song of the world as he hears it\, providing listeners a fresh and timeless tale of their place in the wider story. \n  \n  \n  \n\nTo register: \n\n\nAdd the number of tickets you want by clicking the ‘+’ button\nClick the ‘Get Tickets’ button\nNote- After purchase\, tickets & receipt may arrive in your ‘Junk Mail’ folder 
URL:https://americanschoolofstorytelling.com/event/wayfinding-the-wilds/
LOCATION:AMSS\, 1762 Hennepin Ave South\, Minneapolis\, MN\, 55403\, United States
CATEGORIES:Performance
ATTACH;FMTTYPE=image/png:https://americanschoolofstorytelling.com/wp-content/uploads/2026/04/Wayfinding-the-Wild-Tracking-A-Myth-e1775610336193.png
ORGANIZER;CN="American School of Storytelling":MAILTO:americanschoolofstorytelling@gmail.com
END:VEVENT
BEGIN:VEVENT
DTSTART;TZID=America/Chicago:20260510T140000
DTEND;TZID=America/Chicago:20260510T153000
DTSTAMP:20260420T103811
CREATED:20260323T002133Z
LAST-MODIFIED:20260410T005950Z
UID:10000637-1778421600-1778427000@americanschoolofstorytelling.com
SUMMARY:Jules' Poetry Playhouse
DESCRIPTION:FREE EVENT! American School of Storytelling is proud to host the founders of New Mexico’s Jules’ Poetry Playhouse– Jules Nyquist and John Roche\, joined by special guest Roslye Ultan. Don’t miss this magical afternoon of poetry and stories. Award winning books will be available for purchase. \n  \n                                     \n  \n\nJules Poetry Playhouse Authors: \n                                  \nJules Nyquist is a native Minnesotan and lives in Placitas\, New Mexico where she is the founder of Jules’ Poetry Playhouse. Her recent award-winning books are Atomic Paradise\, Homesick\, The Sestina Playbook\, Behind the Volcanoes\, and Appetites. She took her PhD in Post-Secondary Adult Education from Capella University and her MFA in Writing and Literature from Bennington College. Jules poems have been featured in print\, online\, audio\, radio or in-person at various readings and events including the NM History Conference\, in Las Cruces\, NM\, the American Psychological Association Conference in Denver\, CO\, the Jonquil Motel in Bisbee\, AZ\, the Rattlesnake Museum in Albuquerque\, NM\, a kind of a small array gallery in Magdalena\, NM\, the Briar in Minneapolis\, MN\, the Black Dog Café in St. Paul\, MN\, a Masonic Lodge in Bemidji\, MN\, the New Mexico Humanities Council\, in Albuquerque\, NM\, Unquarked in Los Alamos\, NM\, and featured at the International Women’s Day at the Santa Fe Capitol Rotunda\, and many other bookstores\, bars\, galleries\, and now at the American School of Storytelling in Minneapolis. Her poems have appeared in Salamander\, 5AM\, Malpais Review\, Adobe Walls\, A View from the Loft\, St. Paul Almanac\, Long Islander News\, Gray Sparrow\, House Organ\, Duke City Fix\, Café Review IKON Magazine\, Journal of Humanistic Mathematics\, Taos Journal of Poetry and elsewhere. More at http://www.poetryplayhouse.com \n                        \nJohn Roche lives in Placitas\, New Mexico\, helping Jules Nyquist run Jules’ Poetry Playhouse and edit Poetry Playhouse Publications. His latest poetry collection is Tubbables\, which is a NM-AZ Book Award Finalist. Other books include On Conesus\, Topicalities\, Road Ghosts\, The Joe Poems: The Continuing Saga of Joe the Poet\, and Joe Rides Again: Further Adventures of Joe the Poet. He has also created and edited the five-volume Poets Speak series (Trumped\, Hers\, Water\, Walls and Survival) and other anthologies (including Mo’ Joe). Dr. Roche taught Literature and Creative Writing classes for decades at various colleges and teaches at Jules’ Poetry Playhouse and has done workshops for the New Mexico State Poetry Society. He was formerly President of Just Poets in Rochester\, NY\, a member of the board of BOA Editions\, chief organizer of the Black Mountain North Symposium\, and an instigator of the annual Cloudburst Council poets’ retreat in the Finger Lakes. He has a poem in the ICE OUT: Minnesota Writers Rising Up anthology. \n                        \nRoslye Ultan is a Professor Emeritus from UNM/CCE Graduate Interdisciplinary Studies Program with a specialty in Art History/and Visual Culture. Her first full-length poetry collection is Convergence\, published by Poetry Playhouse Publications\, featuring poems with musical rhythms and lyrical forms. In this collection\, she chronicles her journey encompassing childhood\, marriage and widowhood\, travel\, heritage\, traditions\, and spiritual reflections. Her poetry has been published in A Poets Speak Anthology: Hers\, vol 2\, Water vol 3\, Walls\, vol 4\, Survival\, vol 5; Echoes of Voices of Wisdom\, the Waters of Creation\, North Stone Review\, Blues Moon Journal\, among others. Roslye holds degrees from Dickinson College\, Carlisle\, Pennsylvania\, BA; American University\, D.C. MA; and Post-Graduate Fellow of the Smithsonian Institution\, Washington\, D.C. She is the widow of composer Lloyd Ultan and lives in Minneapolis.
URL:https://americanschoolofstorytelling.com/event/jules-poetry-playhouse/
LOCATION:AMSS\, 1762 Hennepin Ave South\, Minneapolis\, MN\, 55403\, United States
CATEGORIES:Books,Poetry
ATTACH;FMTTYPE=image/jpeg:https://americanschoolofstorytelling.com/wp-content/uploads/2026/04/Jules-Poetry-Playhouse2-e1775782783921.jpg
ORGANIZER;CN="American School of Storytelling":MAILTO:americanschoolofstorytelling@gmail.com
END:VEVENT
BEGIN:VEVENT
DTSTART;TZID=America/Chicago:20260511T190000
DTEND;TZID=America/Chicago:20260511T203000
DTSTAMP:20260420T103811
CREATED:20251208T022851Z
LAST-MODIFIED:20260219T013611Z
UID:10000598-1778526000-1778531400@americanschoolofstorytelling.com
SUMMARY:Ruby Rain "In the Palm of Her Hand"
DESCRIPTION:This interactive storytelling event is an ‘unfolding’ during which Ruby mixes millennia old stories and her own storytelling to take audiences on a visceral adventure highlighting 1 of the 5 senses. \n \nArtist Bio: Growing up trilingually in a multi-ethnic blue collar immigrant neighborhood\, Ruby learned early to navigate between differing narratives on the nature of life/“reality.” Her storytelling blends decades of travel\, teaching and performing across U.S. & abroad with tools\, techniques\, ancient texts and lots! of dancing en route. \n\n“There are those moments in theater when a clown is born. This was one of them. “\n“It was clear the Feminine Divine was shining through.”\n“We laughed so hard\, we started to choke!”\n“You were spellbinding!”
URL:https://americanschoolofstorytelling.com/event/ruby-rain-may-2025/
LOCATION:AMSS\, 1762 Hennepin Ave South\, Minneapolis\, MN\, 55403\, United States
CATEGORIES:Performance
ATTACH;FMTTYPE=image/jpeg:https://americanschoolofstorytelling.com/wp-content/uploads/2025/12/Palm-of-her-hand-MAY-e1769741407510.jpg
ORGANIZER;CN="American School of Storytelling":MAILTO:americanschoolofstorytelling@gmail.com
END:VEVENT
BEGIN:VEVENT
DTSTART;TZID=America/Chicago:20260515T190000
DTEND;TZID=America/Chicago:20260515T203000
DTSTAMP:20260420T103811
CREATED:20260323T002255Z
LAST-MODIFIED:20260410T013854Z
UID:10000638-1778871600-1778877000@americanschoolofstorytelling.com
SUMMARY:Perfect Harmony
DESCRIPTION:Perfect Harmony and other poems performed by poet Timothy Young and violinist Dalyce Elliott Young\, with musical support by Brothers Burn Mountain. \nTimothy’s version and Dalyce’s musical composition for the profound poem\, Perfect Harmony\, by  Ibn El Arabi a 12th Century Andalusian poet\, will be featured. The Brothers Burn Mountain duo of Jesse Dermody and Ryan Dermody will provide musical support for this poem and other compositions by Timothy and Dalyce. \n                        \n  \n\n\n\n\n\nTo register: \n\nAdd the number of tickets you want by clicking the ‘+’ button\nClick the ‘Get Tickets’ button\nNote- After purchase\, tickets & receipt may arrive in your ‘Junk Mail’ folder 
URL:https://americanschoolofstorytelling.com/event/perfect-harmony/
LOCATION:AMSS\, 1762 Hennepin Ave South\, Minneapolis\, MN\, 55403\, United States
CATEGORIES:Performance
ATTACH;FMTTYPE=image/jpeg:https://americanschoolofstorytelling.com/wp-content/uploads/2026/04/Perfect-Harmony-e1775784843228.jpg
ORGANIZER;CN="American School of Storytelling":MAILTO:americanschoolofstorytelling@gmail.com
END:VEVENT
BEGIN:VEVENT
DTSTART;TZID=America/Chicago:20260518T190000
DTEND;TZID=America/Chicago:20260518T210000
DTSTAMP:20260420T103811
CREATED:20260218T014259Z
LAST-MODIFIED:20260218T014259Z
UID:10000622-1779130800-1779138000@americanschoolofstorytelling.com
SUMMARY:Storytelling- Open Mic Mondays May 2026
DESCRIPTION:This is an ongoing monthly series of storytelling open mics that will take place on the 3rd Monday of the month. \nHere’s how it works:\nUp to 10 Tellers. 10 minutes each. Any style- traditional\, personal\, braided. etc. Sign-up will be first come\, first serve. \nDoors at 6:30\, show at 7pm. \nThis event presented in partnership of Story Arts of Minnesota and the American School of Storytelling.
URL:https://americanschoolofstorytelling.com/event/storytelling-may-2026/
LOCATION:AMSS\, 1762 Hennepin Ave South\, Minneapolis\, MN\, 55403\, United States
CATEGORIES:Open Mic
ATTACH;FMTTYPE=image/jpeg:https://americanschoolofstorytelling.com/wp-content/uploads/2023/09/Story-Arts-Open-Mic-e1695603527507.jpg
ORGANIZER;CN="American School of Storytelling":MAILTO:americanschoolofstorytelling@gmail.com
END:VEVENT
BEGIN:VEVENT
DTSTART;TZID=America/Chicago:20260525T190000
DTEND;TZID=America/Chicago:20260525T210000
DTSTAMP:20260420T103811
CREATED:20260218T013828Z
LAST-MODIFIED:20260218T013828Z
UID:10000621-1779735600-1779742800@americanschoolofstorytelling.com
SUMMARY:Poetry- Open Mic Mondays May 2026
DESCRIPTION:This is an ongoing monthly series of poetry & spoken word open mics that will take place on the 4th Monday of the month. \nHere’s how it works:\nUp to 15 poets. 5 minutes or 3 poems each. Any form. Sign-up will be first come\, first serve. \nDoors at 6:30\, show at 7pm.
URL:https://americanschoolofstorytelling.com/event/poetry-may-2026/
LOCATION:AMSS\, 1762 Hennepin Ave South\, Minneapolis\, MN\, 55403\, United States
CATEGORIES:Open Mic
ATTACH;FMTTYPE=image/jpeg:https://americanschoolofstorytelling.com/wp-content/uploads/2023/11/Poetry-Open-Mic-e1701043164131.jpg
ORGANIZER;CN="American School of Storytelling":MAILTO:americanschoolofstorytelling@gmail.com
END:VEVENT
BEGIN:VEVENT
DTSTART;TZID=America/Chicago:20260603T190000
DTEND;TZID=America/Chicago:20260603T210000
DTSTAMP:20260420T103811
CREATED:20260323T001613Z
LAST-MODIFIED:20260323T001830Z
UID:10000635-1780513200-1780520400@americanschoolofstorytelling.com
SUMMARY:Intermediate Storytelling
DESCRIPTION:Focusing on the development of your story beyond the bare bones. Whether it is adjusting the narrative details or crafting the performance\, this is a hands-on class to help you tell a better story. \nIn-person\, 4 sessions\, 7:00-9:00 pm\nWednesdays\, June 3-24 ~ Taught by Loren Niemi
URL:https://americanschoolofstorytelling.com/event/inter-su26/
LOCATION:AMSS\, 1762 Hennepin Ave South\, Minneapolis\, MN\, 55403\, United States
CATEGORIES:Classes
ATTACH;FMTTYPE=image/jpeg:https://americanschoolofstorytelling.com/wp-content/uploads/2026/02/Coming-Soon-Yellow.jpg
ORGANIZER;CN="American School of Storytelling":MAILTO:americanschoolofstorytelling@gmail.com
END:VEVENT
BEGIN:VEVENT
DTSTART;TZID=America/Chicago:20260806T000000
DTEND;TZID=America/Chicago:20260816T235959
DTSTAMP:20260420T103811
CREATED:20260408T013940Z
LAST-MODIFIED:20260408T013940Z
UID:10000641-1785974400-1786924799@americanschoolofstorytelling.com
SUMMARY:2026 Minnesota Fringe Festival
DESCRIPTION:Minnesota Fringe connects adventurous artists with adventurous audiences by creating open\, supportive forums for free and diverse artistic expression. As the producer of the largest performing arts festival in the Midwest\, the annual Minnesota Fringe Festival event fills tens-of-thousands of seats with audiences viewing dozens of works at hundreds of performances by more than 1\,000 artists on a variety of stages in late summer.
URL:https://americanschoolofstorytelling.com/event/2026-mn-fringe/
LOCATION:AMSS\, 1762 Hennepin Ave South\, Minneapolis\, MN\, 55403\, United States
CATEGORIES:Festival
ATTACH;FMTTYPE=image/jpeg:https://americanschoolofstorytelling.com/wp-content/uploads/2025/03/MN-Fringe-e1743376208750.jpg
END:VEVENT
END:VCALENDAR